BEGIN:VCALENDAR
VERSION:2.0
PRODID:-//jEvents 2.0 for Joomla//EN
CALSCALE:GREGORIAN
METHOD:PUBLISH
BEGIN:VEVENT
UID:cb60bbf5a663d7445247dd0ab2542940
CATEGORIES:Default
SUMMARY:Консультация "Подготовка учащихся к выполнению заданий раздела "Грамматика и лексика" в ОГЭ и ЕГЭ" (английский язык)
LOCATION:МБОУ "Гимназия"
DESCRIPTION;ENCODING=QUOTED-PRINTABLE:
DTSTAMP:20260421T102949Z
DTSTART:20190228T103000Z
SEQUENCE:0
TRANSP:OPAQUE
END:VEVENT
END:VCALENDAR