BEGIN:VCALENDAR
VERSION:2.0
PRODID:-//jEvents 2.0 for Joomla//EN
CALSCALE:GREGORIAN
METHOD:PUBLISH
BEGIN:VEVENT
UID:24279c813dcda8d92f7f8302d7f46d5c
CATEGORIES:Default
SUMMARY:Развитие социальной активности обучающихся через проектно-исследовательскую деятельность
LOCATION:МБОУ "Вещевская ООШ"
DESCRIPTION;ENCODING=QUOTED-PRINTABLE:
DTSTAMP:20260421T055831Z
DTSTART;VALUE=DATE:20190320
DTEND;VALUE=DATE:20190321
SEQUENCE:0
TRANSP:OPAQUE
END:VEVENT
END:VCALENDAR