BEGIN:VCALENDAR
VERSION:2.0
PRODID:-//jEvents 2.0 for Joomla//EN
CALSCALE:GREGORIAN
METHOD:PUBLISH
BEGIN:VEVENT
UID:a23d9795bd7bb27d294c9e85c4f70d79
CATEGORIES:Default
SUMMARY:Семинар "Личность учителя в современной школе: кураторская методика, цифровая образовательная среда, профориентация через работу медиацентра "Сатурн 11"
LOCATION:МБОУ "Гимназия №11"
DESCRIPTION;ENCODING=QUOTED-PRINTABLE:
DTSTAMP:20260421T083914Z
DTSTART;VALUE=DATE:20190321
DTEND;VALUE=DATE:20190322
SEQUENCE:0
TRANSP:OPAQUE
END:VEVENT
END:VCALENDAR