BEGIN:VCALENDAR
VERSION:2.0
PRODID:-//jEvents 2.0 for Joomla//EN
CALSCALE:GREGORIAN
METHOD:PUBLISH
BEGIN:VEVENT
UID:cd069a8e371cdd009d3cf0fda70a4113
CATEGORIES:Default
SUMMARY:Библиотечно-информационная олимпиада
LOCATION:Городская библиотека А. Аалто
DESCRIPTION;ENCODING=QUOTED-PRINTABLE:
DTSTAMP:20260425T235932Z
DTSTART:20190514T070000Z
SEQUENCE:0
TRANSP:OPAQUE
END:VEVENT
END:VCALENDAR