BEGIN:VCALENDAR
VERSION:2.0
PRODID:-//jEvents 2.0 for Joomla//EN
CALSCALE:GREGORIAN
METHOD:PUBLISH
BEGIN:VEVENT
UID:1c25528d38a17b003adc401db6e6b93b
CATEGORIES:Default
SUMMARY:КПК "Служба медиации в современной ОО"
LOCATION:МБУ "ВРИМЦ", ул. Выборгская, д. 30. Кабинет 21
DESCRIPTION;ENCODING=QUOTED-PRINTABLE:
DTSTAMP:20260420T143108Z
DTSTART:20191031T060000Z
SEQUENCE:0
TRANSP:OPAQUE
END:VEVENT
END:VCALENDAR