BEGIN:VCALENDAR
VERSION:2.0
PRODID:-//jEvents 2.0 for Joomla//EN
CALSCALE:GREGORIAN
METHOD:PUBLISH
BEGIN:VEVENT
UID:ab02ec1a992652a8aecd77f31245dc54
CATEGORIES:Default
SUMMARY:Всероссийская олимпиада школьников. Школьный этап. Немецкий язык
LOCATION:Образовательные организации
DESCRIPTION;ENCODING=QUOTED-PRINTABLE:
DTSTAMP:20260421T235139Z
DTSTART;VALUE=DATE:20200924
DTEND;VALUE=DATE:20200925
SEQUENCE:0
TRANSP:OPAQUE
END:VEVENT
END:VCALENDAR