BEGIN:VCALENDAR
VERSION:2.0
PRODID:-//jEvents 2.0 for Joomla//EN
CALSCALE:GREGORIAN
METHOD:PUBLISH
BEGIN:VEVENT
UID:6890202201c72af19213caf3dff5fd2b
CATEGORIES:Default
SUMMARY:Учебно-исследовательская конференция. Секция "Химия"
LOCATION:МБОУ "СОШ №13"
DESCRIPTION;ENCODING=QUOTED-PRINTABLE:
DTSTAMP:20260421T104457Z
DTSTART:20190416T110000Z
SEQUENCE:0
TRANSP:OPAQUE
END:VEVENT
END:VCALENDAR