BEGIN:VCALENDAR
VERSION:2.0
PRODID:-//jEvents 2.0 for Joomla//EN
CALSCALE:GREGORIAN
METHOD:PUBLISH
BEGIN:VEVENT
UID:4889115269ebb09a04152f1563c68f17
CATEGORIES:Default
SUMMARY:Семинар "Развитие индивидуальных способностей, творческого потенциала обучающихся на уроках музыки"
LOCATION:МБОУ "СОШ №7"
DESCRIPTION;ENCODING=QUOTED-PRINTABLE:
DTSTAMP:20260421T054844Z
DTSTART:20190925T103000Z
SEQUENCE:0
TRANSP:OPAQUE
END:VEVENT
END:VCALENDAR