BEGIN:VCALENDAR
VERSION:2.0
PRODID:-//jEvents 2.0 for Joomla//EN
CALSCALE:GREGORIAN
METHOD:PUBLISH
BEGIN:VEVENT
UID:892b11f0a58852aa51d833554257c66b
CATEGORIES:Default
SUMMARY:Муниципальный этап всероссийского конкурса сочинений
LOCATION:МБОУ
DESCRIPTION;ENCODING=QUOTED-PRINTABLE:
DTSTAMP:20260423T150357Z
DTSTART;VALUE=DATE:20190920
DTEND;VALUE=DATE:20190927
SEQUENCE:0
TRANSP:OPAQUE
END:VEVENT
END:VCALENDAR