BEGIN:VCALENDAR
VERSION:2.0
PRODID:-//jEvents 2.0 for Joomla//EN
CALSCALE:GREGORIAN
METHOD:PUBLISH
BEGIN:VEVENT
UID:59de03abe7b5910c772fc6334f2a3d8f
CATEGORIES:Default
SUMMARY:КПК "Обучение основам ОБЖ"
LOCATION:МБОУ "СОШ №12"
DESCRIPTION;ENCODING=QUOTED-PRINTABLE:
DTSTAMP:20260423T195957Z
DTSTART:20191023T060000Z
SEQUENCE:0
TRANSP:OPAQUE
END:VEVENT
END:VCALENDAR