BEGIN:VCALENDAR
VERSION:2.0
PRODID:-//jEvents 2.0 for Joomla//EN
CALSCALE:GREGORIAN
METHOD:PUBLISH
BEGIN:VEVENT
UID:c8a25919ce17afe0283148207cb31cac
CATEGORIES:Default
SUMMARY:КПК "Межпредметные технологии в организации образовательного процесса"
LOCATION:МБОУ "СОШ №1"
DESCRIPTION;ENCODING=QUOTED-PRINTABLE:
DTSTAMP:20260422T224741Z
DTSTART:20191031T090000Z
SEQUENCE:0
TRANSP:OPAQUE
END:VEVENT
END:VCALENDAR