BEGIN:VCALENDAR
VERSION:2.0
PRODID:-//jEvents 2.0 for Joomla//EN
CALSCALE:GREGORIAN
METHOD:PUBLISH
BEGIN:VEVENT
UID:02b30f83c3ee3a4b314d736d9fc80f56
CATEGORIES:Default
SUMMARY:КПК "Актуальные вопросы методики начального общего образования в соответствии с ФГОС (с применением дистанционных образовательных технологий)"
LOCATION:МБОУ "СОШ №12"
DESCRIPTION;ENCODING=QUOTED-PRINTABLE:
DTSTAMP:20260419T220951Z
DTSTART:20180925T093000Z
SEQUENCE:0
TRANSP:OPAQUE
END:VEVENT
END:VCALENDAR