BEGIN:VCALENDAR
VERSION:2.0
PRODID:-//jEvents 2.0 for Joomla//EN
CALSCALE:GREGORIAN
METHOD:PUBLISH
BEGIN:VEVENT
UID:cc82e4bdef567507fa3bef6a059b134f
CATEGORIES:Default
SUMMARY:Семинар "Методика преподавания основ православной культуры в рамках ОДНК. Концепции линии УМК издательства "Русское слово"
LOCATION:МБОУ "СОШ №1"
DESCRIPTION;ENCODING=QUOTED-PRINTABLE:
DTSTAMP:20260423T104205Z
DTSTART:20190129T103000Z
SEQUENCE:0
TRANSP:OPAQUE
END:VEVENT
END:VCALENDAR